BEGIN:VCALENDAR
VERSION:2.0
PRODID:-//Squarespace Inc/Squarespace 6//v6//EN
BEGIN:VEVENT
UID:54376496e4b0f1bbcd28b4a8@squarespace.com
DTSTAMP:20181009T001858Z
DTSTART:20170929T220000Z
DTEND:20170930T000000Z
SUMMARY:Pasta MasterClass - Ravioli with Chef Luke Crawford from Neo - Sorr
 y Sold Out!
END:VEVENT
END:VCALENDAR
