BEGIN:VCALENDAR
VERSION:2.0
PRODID:-//Squarespace Inc/Squarespace 6//v6//EN
BEGIN:VEVENT
UID:5d1068296d532e0001aa3f51@squarespace.com
DTSTAMP:20190626T043150Z
DTSTART:20190817T040000Z
DTEND:20190817T070000Z
SUMMARY:Pasta MasterClass - Ravioli and tortellini with Chef Nicla Gallione
END:VEVENT
END:VCALENDAR
