BEGIN:VCALENDAR
VERSION:2.0
PRODID:-//Squarespace Inc/Squarespace 6//v6//EN
BEGIN:VEVENT
UID:5c99735deb393132b966c119@squarespace.com
DTSTAMP:20190719T163440Z
DTSTART:20190615T040000Z
DTEND:20190615T070000Z
SUMMARY:Pasta MasterClass - Ravioli and tortellini with Chef Nicla Gallione
 -SOLD OUT
END:VEVENT
END:VCALENDAR
