BEGIN:VCALENDAR
VERSION:2.0
PRODID:-//Squarespace Inc/Squarespace 6//v6//EN
BEGIN:VEVENT
UID:5c91b667104c7bc98b874f28@squarespace.com
DTSTAMP:20190414T211545Z
DTSTART:20190415T030000Z
DTEND:20190415T060000Z
SUMMARY:School Holidays Cooking for TEENS -- Pasta MasterClass - CANCELLED
END:VEVENT
END:VCALENDAR
