BEGIN:VCALENDAR
VERSION:2.0
PRODID:-//Squarespace Inc/Squarespace 6//v6//EN
BEGIN:VEVENT
UID:5c8ef20e9b747a01e19e1b56@squarespace.com
DTSTAMP:20190422T205422Z
DTSTART:20190425T230000Z
DTEND:20190426T020000Z
SUMMARY:School Holidays Cooking for TEENS -- Pasta MasterClass - Ravioli an
 d tortellini
END:VEVENT
END:VCALENDAR
