BEGIN:VCALENDAR
VERSION:2.0
PRODID:-//Squarespace Inc/Squarespace 6//v6//EN
BEGIN:VEVENT
UID:5bfc84ad4d7a9c901e7d36f1@squarespace.com
DTSTAMP:20190719T163559Z
DTSTART:20190323T030000Z
DTEND:20190323T060000Z
SUMMARY:Pasta MasterClass - Ravioli and tortellini with Chef Nicla Gallione
 - SOLD OUT
END:VEVENT
END:VCALENDAR
